BEGIN:VCALENDAR
VERSION:2.0
PRODID:-//TYPO3/NONSGML News system (news)//EN
CALSCALE:GREGORIAN
METHOD:PUBLISH
BEGIN:VEVENT
UID:news-116955@koettmannsdorf.at

DTSTAMP:20260423T142157Z



DTSTART;TZID=Europe/Vienna:20260501T100000
DTEND;TZID=Europe/Vienna:20260501T000000

SUMMARY:Radwandertag mit Maibaumfest
DESCRIPTION:10:00 Uhr - Radsegnung
10:15 Uhr - Radwandertag 

LOCATION:Parkplatz der Volksschule Köttmannsdorf


END:VEVENT
END:VCALENDAR
